BEGIN:VCALENDAR
VERSION:2.0
BEGIN:VEVENT
DTSTART:20231125T170000Z
DTEND:20231125T213000Z
DTSTAMP:20260425T193630Z
CREATED:20260425T193630Z
UID:648
SUMMARY:Nightfever Berlin
LOCATION:Berlin, St. Bonifatius
END:VEVENT
END:VCALENDAR
