BEGIN:VCALENDAR
VERSION:2.0
BEGIN:VEVENT
DTSTART:20251225T190000Z
DTEND:20251225T220000Z
DTSTAMP:20260420T100236Z
CREATED:20260420T100236Z
UID:854
SUMMARY:Nightfever Leuven
LOCATION:Leuven, Sint-Antoniuskapel
END:VEVENT
END:VCALENDAR
